

BEGIN:VCALENDAR
VERSION:2.0
PRODID:-//The Periwinkle Foundation - ECPv6.15.20//NONSGML v1.0//EN
CALSCALE:GREGORIAN
METHOD:PUBLISH
X-ORIGINAL-URL:https://periwinklefoundation.org
X-WR-CALDESC:Events for The Periwinkle Foundation
REFRESH-INTERVAL;VALUE=DURATION:PT1H
X-Robots-Tag:noindex
X-PUBLISHED-TTL:PT1H
BEGIN:VTIMEZONE
TZID:Asia/Karachi
BEGIN:STANDARD
TZOFFSETFROM:+0500
TZOFFSETTO:+0500
TZNAME:PKT
DTSTART:20200101T000000
END:STANDARD
END:VTIMEZONE
BEGIN:VEVENT
DTSTART;VALUE=DATE:20210802
DTEND;VALUE=DATE:20210807
DTSTAMP:20260421T034932
CREATED:20210515T043156Z
LAST-MODIFIED:20210515T043156Z
UID:10999-1627862400-1628294399@periwinklefoundation.org
SUMMARY:Periwinkle Summer Family Getaway
DESCRIPTION:For more information\, visit Periwinkle Summer Family Getaway
URL:https://periwinklefoundation.org/event/periwinkle-summer-family-getaway/
ORGANIZER;CN="Meredith Beall":MAILTO:mbeall@periwinklefoundation.org
END:VEVENT
END:VCALENDAR