

BEGIN:VCALENDAR
VERSION:2.0
PRODID:-//The Periwinkle Foundation - ECPv6.15.20//NONSGML v1.0//EN
CALSCALE:GREGORIAN
METHOD:PUBLISH
X-WR-CALNAME:The Periwinkle Foundation
X-ORIGINAL-URL:https://periwinklefoundation.org
X-WR-CALDESC:Events for The Periwinkle Foundation
REFRESH-INTERVAL;VALUE=DURATION:PT1H
X-Robots-Tag:noindex
X-PUBLISHED-TTL:PT1H
BEGIN:VTIMEZONE
TZID:America/Chicago
BEGIN:DAYLIGHT
TZOFFSETFROM:-0600
TZOFFSETTO:-0500
TZNAME:CDT
DTSTART:20240310T080000
END:DAYLIGHT
BEGIN:STANDARD
TZOFFSETFROM:-0500
TZOFFSETTO:-0600
TZNAME:CST
DTSTART:20241103T070000
END:STANDARD
BEGIN:DAYLIGHT
TZOFFSETFROM:-0600
TZOFFSETTO:-0500
TZNAME:CDT
DTSTART:20250309T080000
END:DAYLIGHT
BEGIN:STANDARD
TZOFFSETFROM:-0500
TZOFFSETTO:-0600
TZNAME:CST
DTSTART:20251102T070000
END:STANDARD
BEGIN:DAYLIGHT
TZOFFSETFROM:-0600
TZOFFSETTO:-0500
TZNAME:CDT
DTSTART:20260308T080000
END:DAYLIGHT
BEGIN:STANDARD
TZOFFSETFROM:-0500
TZOFFSETTO:-0600
TZNAME:CST
DTSTART:20261101T070000
END:STANDARD
END:VTIMEZONE
BEGIN:VEVENT
DTSTART;TZID=America/Chicago:20250506T180000
DTEND;TZID=America/Chicago:20250506T200000
DTSTAMP:20260423T012853
CREATED:20230925T211025Z
LAST-MODIFIED:20250218T173020Z
UID:15419-1746554400-1746561600@periwinklefoundation.org
SUMMARY:Nine Winery Charity Wine Release Party
DESCRIPTION:Nice Winery is again partnering with The Periwinkle Foundation by offering a new vintage of their award-winning charity wine. \nTuesday\, May 6th  \n6-8pm \nThe Vineyard at Nice Winery \n10520 Westview Dr. \nHouston\, TX 77043
URL:https://periwinklefoundation.org/event/nine-winery-charity-wine-release-party/
LOCATION:Nice Winery\, 10520 Westview Dr.\, Houston\, TX\, 77043\, United States
END:VEVENT
END:VCALENDAR