

BEGIN:VCALENDAR
VERSION:2.0
PRODID:-//The Periwinkle Foundation - ECPv6.15.20//NONSGML v1.0//EN
CALSCALE:GREGORIAN
METHOD:PUBLISH
X-WR-CALNAME:The Periwinkle Foundation
X-ORIGINAL-URL:https://periwinklefoundation.org
X-WR-CALDESC:Events for The Periwinkle Foundation
REFRESH-INTERVAL;VALUE=DURATION:PT1H
X-Robots-Tag:noindex
X-PUBLISHED-TTL:PT1H
BEGIN:VTIMEZONE
TZID:America/Chicago
BEGIN:DAYLIGHT
TZOFFSETFROM:-0600
TZOFFSETTO:-0500
TZNAME:CDT
DTSTART:20250309T080000
END:DAYLIGHT
BEGIN:STANDARD
TZOFFSETFROM:-0500
TZOFFSETTO:-0600
TZNAME:CST
DTSTART:20251102T070000
END:STANDARD
BEGIN:DAYLIGHT
TZOFFSETFROM:-0600
TZOFFSETTO:-0500
TZNAME:CDT
DTSTART:20260308T080000
END:DAYLIGHT
BEGIN:STANDARD
TZOFFSETFROM:-0500
TZOFFSETTO:-0600
TZNAME:CST
DTSTART:20261101T070000
END:STANDARD
BEGIN:DAYLIGHT
TZOFFSETFROM:-0600
TZOFFSETTO:-0500
TZNAME:CDT
DTSTART:20270314T080000
END:DAYLIGHT
BEGIN:STANDARD
TZOFFSETFROM:-0500
TZOFFSETTO:-0600
TZNAME:CST
DTSTART:20271107T070000
END:STANDARD
END:VTIMEZONE
BEGIN:VEVENT
DTSTART;VALUE=DATE:20261023
DTEND;VALUE=DATE:20261026
DTSTAMP:20260423T053527
CREATED:20240823T150102Z
LAST-MODIFIED:20260211T161659Z
UID:16864-1792713600-1792972799@periwinklefoundation.org
SUMMARY:McAllen Family Camp
DESCRIPTION:McAllen Family Camp is a weekend (Friday afternoon – Sunday morning) overnight camp held for pediatric cancer patients treated at Vannie Cook Children’s Clinic – Texas Children’s Hospital and their families. The patient must be between the ages of 5 and 16 years. Siblings can be as young as 2 years old to attend McAllen Family Camp. Camp is free of charge to all campers
URL:https://periwinklefoundation.org/event/mcallen-family-camp-3/
LOCATION:Camp Aranzazu
END:VEVENT
END:VCALENDAR