

BEGIN:VCALENDAR
VERSION:2.0
PRODID:-//The Periwinkle Foundation - ECPv6.15.20//NONSGML v1.0//EN
CALSCALE:GREGORIAN
METHOD:PUBLISH
X-WR-CALNAME:The Periwinkle Foundation
X-ORIGINAL-URL:https://periwinklefoundation.org
X-WR-CALDESC:Events for The Periwinkle Foundation
REFRESH-INTERVAL;VALUE=DURATION:PT1H
X-Robots-Tag:noindex
X-PUBLISHED-TTL:PT1H
BEGIN:VTIMEZONE
TZID:Asia/Karachi
BEGIN:STANDARD
TZOFFSETFROM:+0500
TZOFFSETTO:+0500
TZNAME:PKT
DTSTART:20200101T000000
END:STANDARD
END:VTIMEZONE
BEGIN:VEVENT
DTSTART;VALUE=DATE:20210409
DTEND;VALUE=DATE:20210411
DTSTAMP:20260420T122120
CREATED:20210318T014013Z
LAST-MODIFIED:20210408T010107Z
UID:10369-1617926400-1618099199@periwinklefoundation.org
SUMMARY:Camp YOLO
DESCRIPTION:Virtual Spring Camp YOLO will be hosted April 9-10\, 2021 in an engaging and interactive online format featuring live activity sessions hosted by Periwinkle counselors\, volunteers\, and special guests! We look forward to the day when we can all safely gather again in-person\, and until then we are creating the BEST VIRTUAL CAMP EVER based on your feedback and the creativity of so many talented individuals. \nVirtual Spring Camp YOLO will have 3 LIVE scheduled Zoom activities. Based on the feedback from campers last year\, we are keeping and revamping the most popular activities\, such as Minute to Win it and Tie Dye! Every camper will receive a Camp In A Box filled with supplies needed for the activities\, a camp t-shirt\, and other fun Periwinkle swag! We know it’s going to be a creative and meaningful time with our Periwinkle community! \nQuick Facts\nWhen: Twice a year (April & September)\nSpring Camp YOLO April 9-11\, 2021 (Virtual)\nFall Camp YOLO September 24 -26\, 2021 \nWhere: Hosted virtually online using Zoom! \nWho: Patients\, ages 13-18\, receiving care from the Cancer and Hematology Centers\, Cardiology Center (Heart Center)\, Rheumatology Clinic\, Renal Center (Kidney Center) and Retrovirology Clinic at Texas Children’s Hospital. Each patient may take one sibling in the same age range.
URL:https://periwinklefoundation.org/event/camp-yolo/
LOCATION:Virtual
END:VEVENT
END:VCALENDAR