

BEGIN:VCALENDAR
VERSION:2.0
PRODID:-//The Periwinkle Foundation - ECPv6.15.20//NONSGML v1.0//EN
CALSCALE:GREGORIAN
METHOD:PUBLISH
X-ORIGINAL-URL:https://periwinklefoundation.org
X-WR-CALDESC:Events for The Periwinkle Foundation
REFRESH-INTERVAL;VALUE=DURATION:PT1H
X-Robots-Tag:noindex
X-PUBLISHED-TTL:PT1H
BEGIN:VTIMEZONE
TZID:America/Chicago
BEGIN:DAYLIGHT
TZOFFSETFROM:-0600
TZOFFSETTO:-0500
TZNAME:CDT
DTSTART:20220313T080000
END:DAYLIGHT
BEGIN:STANDARD
TZOFFSETFROM:-0500
TZOFFSETTO:-0600
TZNAME:CST
DTSTART:20221106T070000
END:STANDARD
BEGIN:DAYLIGHT
TZOFFSETFROM:-0600
TZOFFSETTO:-0500
TZNAME:CDT
DTSTART:20230312T080000
END:DAYLIGHT
BEGIN:STANDARD
TZOFFSETFROM:-0500
TZOFFSETTO:-0600
TZNAME:CST
DTSTART:20231105T070000
END:STANDARD
BEGIN:DAYLIGHT
TZOFFSETFROM:-0600
TZOFFSETTO:-0500
TZNAME:CDT
DTSTART:20240310T080000
END:DAYLIGHT
BEGIN:STANDARD
TZOFFSETFROM:-0500
TZOFFSETTO:-0600
TZNAME:CST
DTSTART:20241103T070000
END:STANDARD
BEGIN:DAYLIGHT
TZOFFSETFROM:-0600
TZOFFSETTO:-0500
TZNAME:CDT
DTSTART:20250309T080000
END:DAYLIGHT
BEGIN:STANDARD
TZOFFSETFROM:-0500
TZOFFSETTO:-0600
TZNAME:CST
DTSTART:20251102T070000
END:STANDARD
BEGIN:DAYLIGHT
TZOFFSETFROM:-0600
TZOFFSETTO:-0500
TZNAME:CDT
DTSTART:20260308T080000
END:DAYLIGHT
BEGIN:STANDARD
TZOFFSETFROM:-0500
TZOFFSETTO:-0600
TZNAME:CST
DTSTART:20261101T070000
END:STANDARD
BEGIN:DAYLIGHT
TZOFFSETFROM:-0600
TZOFFSETTO:-0500
TZNAME:CDT
DTSTART:20270314T080000
END:DAYLIGHT
BEGIN:STANDARD
TZOFFSETFROM:-0500
TZOFFSETTO:-0600
TZNAME:CST
DTSTART:20271107T070000
END:STANDARD
BEGIN:DAYLIGHT
TZOFFSETFROM:-0600
TZOFFSETTO:-0500
TZNAME:CDT
DTSTART:20280312T080000
END:DAYLIGHT
BEGIN:STANDARD
TZOFFSETFROM:-0500
TZOFFSETTO:-0600
TZNAME:CST
DTSTART:20281105T070000
END:STANDARD
END:VTIMEZONE
BEGIN:VEVENT
DTSTART;TZID=America/Chicago:20230929T080000
DTEND;TZID=America/Chicago:20231001T170000
DTSTAMP:20260419T151327
CREATED:20230411T145758Z
LAST-MODIFIED:20230411T151523Z
UID:14640-1695974400-1696179600@periwinklefoundation.org
SUMMARY:Fall Camp YOLO & Family Camp
DESCRIPTION:Camp YOLO is a weekend (Friday night – Sunday morning) overnight camp held twice a year for teens receiving care from the Cancer and Hematology Center\, Cardiology Center (Heart Center)\, Rheumatology Clinic\, Renal Center (Kidney Center) and Retrovirology Clinic at Texas Children’s Hospital. Brothers or sisters (age 13 to 18) may attend camp WITH the patient. ALL campers\, volunteers and staff members will need to be fully vaccinated to attend camp. Camp is free of charge to all campers. \nThe health and safety of the community\, our campers\, volunteers and staff\, is our priority. So we will continue to evaluate programming options\, mitigation strategies and what modifications may need to be put in place. All programs are subject to change if/as conditions warrant due to COVID-19. \n\n\n\nPeriwinkle Family Camp is a weekend (Friday afternoon – Sunday morning) overnight camp held twice a year for pediatric cancer patients treated at Texas Children’s Hospital and their families. The patient must be between the ages of 5 and 16 years. Siblings can be as young as 2 years old to attend Periwinkle Family Camp. Camp is free of charge to all campers. \nThe health and safety of the community\, our campers\, volunteers and staff\, is our priority. So we will continue to evaluate programming options\, mitigation strategies and what modifications may need to be put in place. All programs are subject to change if/as conditions warrant due to COVID-19. \n\n\n\n\n\nQuick Facts\n\nWhen: Twice a year (April & September)\n\nSpring Camp YOLO: April 14-16\, 2023\nFall Camp YOLO: September 29 – October 1\, 2023\n\n\nWhere: Camp For All\, near Brenham\, TX\nWho: Patients\, ages 13-18\, receiving care from the Cancer and Hematology Center\, Cardiology Center (Heart Center)\, Rheumatology Clinic\, Renal Center (Kidney Center) and Retrovirology Clinic at Texas Children’s Hospital. Each patient may take one sibling in the same age range.\n\n\n 
URL:https://periwinklefoundation.org/event/national-volunteer-week/
LOCATION:TX
END:VEVENT
BEGIN:VEVENT
DTSTART;TZID=America/Chicago:20231014T090000
DTEND;TZID=America/Chicago:20231014T170000
DTSTAMP:20260419T151327
CREATED:20230411T151826Z
LAST-MODIFIED:20230411T151826Z
UID:14646-1697274000-1697302800@periwinklefoundation.org
SUMMARY:Periwinkle Kickball Classic
DESCRIPTION:A one-day kickball tournament involving teams of at least 10 players (minimum 5 women) rallying together to raise funds while kicking to improve the lives of those affected by cancer.
URL:https://periwinklefoundation.org/event/periwinkle-kickball-classic-3/
LOCATION:Westbury Little League\, 5300 Dryad Dr\, Houston\, TX\, 77035\, United States
END:VEVENT
BEGIN:VEVENT
DTSTART;TZID=America/Chicago:20231109T180000
DTEND;TZID=America/Chicago:20231109T220000
DTSTAMP:20260419T151327
CREATED:20230221T192153Z
LAST-MODIFIED:20230221T192229Z
UID:14557-1699552800-1699567200@periwinklefoundation.org
SUMMARY:Iron Sommelier 2023 Presented by AUTOSOL
DESCRIPTION:The Periwinkle Foundation is proud to announce Iron Sommelier 2023 presented by AUTOSOL will be held on Thursday\, November 9\, 2023. This year\, The Post Oak Hotel at Uptown Houston will play host to Houston’s premier wine competition and tasting which brings together the city’s most prestigious sommeliers competing for the title of Iron Sommelier.
URL:https://periwinklefoundation.org/event/iron-sommelier-2023-presented-by-autosol/
LOCATION:The Post Oak Hotel\, 1600 W Loop S\, Houston\, TX\, 77027\, United States
ORGANIZER;CN="Jared Walton":MAILTO:jwalton@periwinklefoundation.org
END:VEVENT
BEGIN:VEVENT
DTSTART;TZID=America/Chicago:20240124T180000
DTEND;TZID=America/Chicago:20240124T200000
DTSTAMP:20260419T151327
CREATED:20231114T223734Z
LAST-MODIFIED:20231114T223734Z
UID:15547-1706119200-1706126400@periwinklefoundation.org
SUMMARY:Hops and Hot Tamales
DESCRIPTION:Beer? Check!\nTamales? Check!\nFriends of Periwinkle? Check!\n\n\n\nPlease join us for the 12th Annual Hops & Hot Tamales\, hosted by Friends of Periwinkle! Enjoy food and beer and get more information about The Periwinkle Foundation upcoming events!
URL:https://periwinklefoundation.org/event/hops-and-hot-tamales-2/
LOCATION:TX
ORGANIZER;CN="Jared Walton":MAILTO:jwalton@periwinklefoundation.org
END:VEVENT
BEGIN:VEVENT
DTSTART;TZID=America/Chicago:20240823T090000
DTEND;TZID=America/Chicago:20240823T170000
DTSTAMP:20260419T151327
CREATED:20240809T144434Z
LAST-MODIFIED:20240809T144434Z
UID:16622-1724403600-1724432400@periwinklefoundation.org
SUMMARY:Making A Mark Opening Exhibit
DESCRIPTION:
URL:https://periwinklefoundation.org/event/making-a-mark-opening-exhibit-2/
LOCATION:TX
ORGANIZER;CN="Erin Locke":MAILTO:elocke@periwinklefoundation.org
END:VEVENT
BEGIN:VEVENT
DTSTART;TZID=America/Chicago:20240823T183000
DTEND;TZID=America/Chicago:20240823T210000
DTSTAMP:20260419T151327
CREATED:20240823T144633Z
LAST-MODIFIED:20240823T144633Z
UID:16860-1724437800-1724446800@periwinklefoundation.org
SUMMARY:Iron Bartender Finals
DESCRIPTION:Houston’s premier bartender competition featuring signature cocktails by selected bartenders at restaurants and bars across Houston. \nIron Bartender Finals \nThursday\, September 12th \nLyric Market \n411 Smith Street \n6:30pm-9:30pm \nLimited tables and tickets available – reserve yours today!\n\n\n\n\n\n\n\n\n\n\n\n\n\n\n\n\n\n\n\n\n\n\nOur finalists have been chosen and will be mixing their “Periwinkle” cocktails on September 12th! \nDrew Jerdan – Bad News Bar \nHumberto Garay – Cuchara \nLynzie Holland – Johnny’s Gold Brick \nApril Biagas – Refuge \nTJ Leibowitz – Winnie’s
URL:https://periwinklefoundation.org/event/iron-bartender-finals-2/
LOCATION:Lyric Market\, 411 Smith St\, Houston\, TX\, 77002\, United States
ORGANIZER;CN="Jared Walton":MAILTO:jwalton@periwinklefoundation.org
END:VEVENT
BEGIN:VEVENT
DTSTART;TZID=America/Chicago:20250506T180000
DTEND;TZID=America/Chicago:20250506T200000
DTSTAMP:20260419T151327
CREATED:20230925T211025Z
LAST-MODIFIED:20250218T173020Z
UID:15419-1746554400-1746561600@periwinklefoundation.org
SUMMARY:Nine Winery Charity Wine Release Party
DESCRIPTION:Nice Winery is again partnering with The Periwinkle Foundation by offering a new vintage of their award-winning charity wine. \nTuesday\, May 6th  \n6-8pm \nThe Vineyard at Nice Winery \n10520 Westview Dr. \nHouston\, TX 77043
URL:https://periwinklefoundation.org/event/nine-winery-charity-wine-release-party/
LOCATION:Nice Winery\, 10520 Westview Dr.\, Houston\, TX\, 77043\, United States
END:VEVENT
BEGIN:VEVENT
DTSTART;VALUE=DATE:20251111
DTEND;VALUE=DATE:20251112
DTSTAMP:20260419T151327
CREATED:20250218T173454Z
LAST-MODIFIED:20250218T173454Z
UID:18386-1762819200-1762905599@periwinklefoundation.org
SUMMARY:Jimmy Pappas Sporting Clay Shoot
DESCRIPTION:
URL:https://periwinklefoundation.org/event/jimmy-pappas-sporting-clay-shoot/
LOCATION:Greater Houston Sports Club
END:VEVENT
BEGIN:VEVENT
DTSTART;TZID=America/Chicago:20260410T160000
DTEND;TZID=America/Chicago:20260412T100000
DTSTAMP:20260419T151327
CREATED:20260211T161353Z
LAST-MODIFIED:20260211T161353Z
UID:137276-1775836800-1775988000@periwinklefoundation.org
SUMMARY:Spring Family Camp
DESCRIPTION:Periwinkle Family Camp is a weekend (Friday afternoon – Sunday morning) overnight camp held twice a year for pediatric cancer patients treated at Texas Children’s Hospital and their families. The patient must be between the ages of 5 and 16 years. Siblings can be as young as 2 years old to attend Periwinkle Family Camp. Camp is free of charge to all campers.
URL:https://periwinklefoundation.org/event/spring-family-camp/
LOCATION:Camp For All
END:VEVENT
BEGIN:VEVENT
DTSTART;TZID=America/Chicago:20260410T170000
DTEND;TZID=America/Chicago:20260412T100000
DTSTAMP:20260419T151327
CREATED:20231130T155417Z
LAST-MODIFIED:20260211T161115Z
UID:15563-1775840400-1775988000@periwinklefoundation.org
SUMMARY:Spring Camp YOLO
DESCRIPTION:Camp YOLO is a weekend (Friday night – Sunday morning) overnight camp held twice a year for teens receiving care from the Cancer and Hematology Center\, Cardiology Center (Heart Center)\, Rheumatology Clinic\, Renal Center (Kidney Center) and Retrovirology Clinic at Texas Children’s Hospital.
URL:https://periwinklefoundation.org/event/camp-yolo-family-camp-2/
LOCATION:Camp For All
END:VEVENT
BEGIN:VEVENT
DTSTART;TZID=America/Chicago:20260418T180000
DTEND;TZID=America/Chicago:20260418T230000
DTSTAMP:20260419T151327
CREATED:20231130T154847Z
LAST-MODIFIED:20260211T163226Z
UID:15555-1776535200-1776553200@periwinklefoundation.org
SUMMARY:Periwinkle Gala - The Twinkle of Periwinkle -Igniting a Spark of Joy and Healing 
DESCRIPTION:Our 2026 Gala – The Twinkle of Periwinkle -Igniting a Spark of Joy and Healing will be held on Saturday\, April 18\, 2026 at the Royal Sonesta Houston.  We will honor David Steinhart with the Gerson Award\, which is presented to individuals who give their time and talents to turn dreams into reality for Periwinkle children. We are also proud to recognize Pappas Restaurants and Brookdale West University as Periwinkle Partners.
URL:https://periwinklefoundation.org/event/periwinkle-gala/
LOCATION:Royal Sonesta\, 2222 W Loop S\, Houston\, TX 77027\, Houston\, TX\, 77027\, United States
END:VEVENT
BEGIN:VEVENT
DTSTART;TZID=America/Chicago:20260615T070000
DTEND;TZID=America/Chicago:20260619T160000
DTSTAMP:20260419T151327
CREATED:20231130T155018Z
LAST-MODIFIED:20260211T163107Z
UID:15558-1781506800-1781884800@periwinklefoundation.org
SUMMARY:Periwinkle Day Camp
DESCRIPTION:Periwinkle Day Camp is a week-long day camp for children\, ages 7-12\, who are currently being treated or previously treated at Texas Children’s Cancer and Hematology Center. One sibling\, within the same age range\, may attend WITH the patient.
URL:https://periwinklefoundation.org/event/camp-yolo-family-camp/
LOCATION:St. Vincent De Paul Catholic Church\, 6800 Buffalo Speedway\, houston\, TX\, 77025\, United States
END:VEVENT
BEGIN:VEVENT
DTSTART;TZID=America/Chicago:20260719T120000
DTEND;TZID=America/Chicago:20260725T100000
DTSTAMP:20260419T151327
CREATED:20230411T144839Z
LAST-MODIFIED:20260211T162554Z
UID:14638-1784462400-1784973600@periwinklefoundation.org
SUMMARY:Camp Periwinkle
DESCRIPTION:Camp Periwinkle is a week-long overnight camp for children\, ages 7-15\, who are currently being treated or previously treated for cancer at Texas Children’s Cancer Center. One sibling\, within the same age range (age 7 to 15)\, may attend camp WITH the patient. Camp is free of charge to all campers. \n 
URL:https://periwinklefoundation.org/event/camp-periwinkle-2/
LOCATION:Camp For All
END:VEVENT
BEGIN:VEVENT
DTSTART;VALUE=DATE:20260901
DTEND;VALUE=DATE:20261001
DTSTAMP:20260419T151327
CREATED:20240809T144600Z
LAST-MODIFIED:20260211T161913Z
UID:16623-1788220800-1790812799@periwinklefoundation.org
SUMMARY:Childhood Cancer and Sickle Cell Awareness Month
DESCRIPTION:
URL:https://periwinklefoundation.org/event/childhood-cancer-and-sickle-cell-awareness-month/
LOCATION:TX
END:VEVENT
BEGIN:VEVENT
DTSTART;TZID=America/Chicago:20260918T160000
DTEND;TZID=America/Chicago:20260920T100000
DTSTAMP:20260419T151327
CREATED:20260211T161449Z
LAST-MODIFIED:20260218T211524Z
UID:137277-1789747200-1789898400@periwinklefoundation.org
SUMMARY:Fall Family Camp
DESCRIPTION:Periwinkle Family Camp is a weekend (Friday afternoon – Sunday morning) overnight camp held twice a year for pediatric cancer patients treated at Texas Children’s Hospital and their families. The patient must be between the ages of 5 and 16 years. Siblings can be as young as 2 years old to attend Periwinkle Family Camp. Camp is free of charge to all campers.
URL:https://periwinklefoundation.org/event/fall-family-camp-2/
LOCATION:Camp For All
END:VEVENT
BEGIN:VEVENT
DTSTART;TZID=America/Chicago:20260918T170000
DTEND;TZID=America/Chicago:20260920T100000
DTSTAMP:20260419T151327
CREATED:20240809T153458Z
LAST-MODIFIED:20260218T211508Z
UID:16625-1789750800-1789898400@periwinklefoundation.org
SUMMARY:Fall Camp YOLO
DESCRIPTION:Camp YOLO is a weekend (Friday night – Sunday morning) overnight camp held twice a year for teens receiving care from the Cancer and Hematology Center\, Cardiology Center (Heart Center)\, Rheumatology Clinic\, Renal Center (Kidney Center) and Retrovirology Clinic at Texas Children’s Hospital.
URL:https://periwinklefoundation.org/event/fall-camp-yolo-and-family-camp/
LOCATION:Camp For All
END:VEVENT
BEGIN:VEVENT
DTSTART;VALUE=DATE:20261009
DTEND;VALUE=DATE:20261012
DTSTAMP:20260419T151327
CREATED:20240809T155352Z
LAST-MODIFIED:20260211T160531Z
UID:16626-1791504000-1791763199@periwinklefoundation.org
SUMMARY:Long Term Survivor Retreat
DESCRIPTION:
URL:https://periwinklefoundation.org/event/long-term-survivor-retreat-4/
LOCATION:Camp For All
ORGANIZER;CN="Jared Walton":MAILTO:jwalton@periwinklefoundation.org
END:VEVENT
BEGIN:VEVENT
DTSTART;TZID=America/Chicago:20261019T080000
DTEND;TZID=America/Chicago:20261019T170000
DTSTAMP:20260419T151327
CREATED:20240823T144811Z
LAST-MODIFIED:20260211T163854Z
UID:16861-1792396800-1792429200@periwinklefoundation.org
SUMMARY:Century Oak Private Wealth\, FORE! Houston Annual Golf Tournament
DESCRIPTION:The Fore! Houston Charity Golf Tournament is held once a year with the goal of raising funds and awareness for Houston area organizations dedicated to those struggling with cancer. The tournament is a four-golfer scramble format with the winning team claiming the ever-prized “Century Cup.” The day of the event also includes a live auction\, entertainment\, and local celebrities along with food and drink. \n\n8:30 AM – Registration & Breakfast\n10:00 AM – Shotgun Start\n2:30 PM – Lunch & Awards\n3:00 PM – Live Auction Held
URL:https://periwinklefoundation.org/event/century-oak-golf-tournament/
LOCATION:Champions Golf Club
END:VEVENT
BEGIN:VEVENT
DTSTART;TZID=America/Chicago:20261019T100000
DTEND;TZID=America/Chicago:20261019T170000
DTSTAMP:20260419T151327
CREATED:20240823T150407Z
LAST-MODIFIED:20260211T163508Z
UID:16868-1792404000-1792429200@periwinklefoundation.org
SUMMARY:11th Annual BakerTriangle Charity Golf Tournament
DESCRIPTION:  \nRegistration & Lunch: 10:00am\nTee Time: 11:30am\nDinner & Awards: Following Golf \n  \n 
URL:https://periwinklefoundation.org/event/baker-triangle-golf-tournament/
LOCATION:Sterling Country Club\, 16500 Houston National Blvd\, Houston\, TX\, 77095\, United States
END:VEVENT
BEGIN:VEVENT
DTSTART;VALUE=DATE:20261023
DTEND;VALUE=DATE:20261026
DTSTAMP:20260419T151327
CREATED:20240823T150102Z
LAST-MODIFIED:20260211T161659Z
UID:16864-1792713600-1792972799@periwinklefoundation.org
SUMMARY:McAllen Family Camp
DESCRIPTION:McAllen Family Camp is a weekend (Friday afternoon – Sunday morning) overnight camp held for pediatric cancer patients treated at Vannie Cook Children’s Clinic – Texas Children’s Hospital and their families. The patient must be between the ages of 5 and 16 years. Siblings can be as young as 2 years old to attend McAllen Family Camp. Camp is free of charge to all campers
URL:https://periwinklefoundation.org/event/mcallen-family-camp-3/
LOCATION:Camp Aranzazu
END:VEVENT
BEGIN:VEVENT
DTSTART;TZID=America/Chicago:20261119T180000
DTEND;TZID=America/Chicago:20271118T220000
DTSTAMP:20260419T151327
CREATED:20240823T150556Z
LAST-MODIFIED:20260211T195622Z
UID:16886-1795111200-1826575200@periwinklefoundation.org
SUMMARY:Iron Sommelier
DESCRIPTION:The Periwinkle Foundation is proud to announce Iron Sommelier 2026 presented by Chord Energy will be held on Thursday\, November 19\, 2026. This year\, The Post Oak Hotel at Uptown Houston will play host to Houston’s premier wine competition and tasting which brings together the city’s most prestigious sommeliers competing for the title of Iron Sommelier. \n\n\n\n\nIRON SOMMELIER 2025 Schedule\nDoors Open – 6:00pm \nUnderwriter Tasting Room – 7:00pm \nMasters Tasting Room – 8:15pm \nPeople’s Choice Voting Closes – 9:30pm \nAwards Ceremony – 9:30pm \nAuction Closes – 10:00pm
URL:https://periwinklefoundation.org/event/iron-sommelier-2/
LOCATION:The Post Oak Hotel\, 1600 W Loop S\, Houston\, TX\, 77027\, United States
ORGANIZER;CN="Jared Walton":MAILTO:jwalton@periwinklefoundation.org
END:VEVENT
END:VCALENDAR