

BEGIN:VCALENDAR
VERSION:2.0
PRODID:-//The Periwinkle Foundation - ECPv6.15.20//NONSGML v1.0//EN
CALSCALE:GREGORIAN
METHOD:PUBLISH
X-ORIGINAL-URL:https://periwinklefoundation.org
X-WR-CALDESC:Events for The Periwinkle Foundation
REFRESH-INTERVAL;VALUE=DURATION:PT1H
X-Robots-Tag:noindex
X-PUBLISHED-TTL:PT1H
BEGIN:VTIMEZONE
TZID:America/Chicago
BEGIN:DAYLIGHT
TZOFFSETFROM:-0600
TZOFFSETTO:-0500
TZNAME:CDT
DTSTART:20250309T080000
END:DAYLIGHT
BEGIN:STANDARD
TZOFFSETFROM:-0500
TZOFFSETTO:-0600
TZNAME:CST
DTSTART:20251102T070000
END:STANDARD
BEGIN:DAYLIGHT
TZOFFSETFROM:-0600
TZOFFSETTO:-0500
TZNAME:CDT
DTSTART:20260308T080000
END:DAYLIGHT
BEGIN:STANDARD
TZOFFSETFROM:-0500
TZOFFSETTO:-0600
TZNAME:CST
DTSTART:20261101T070000
END:STANDARD
BEGIN:DAYLIGHT
TZOFFSETFROM:-0600
TZOFFSETTO:-0500
TZNAME:CDT
DTSTART:20270314T080000
END:DAYLIGHT
BEGIN:STANDARD
TZOFFSETFROM:-0500
TZOFFSETTO:-0600
TZNAME:CST
DTSTART:20271107T070000
END:STANDARD
END:VTIMEZONE
BEGIN:VEVENT
DTSTART;VALUE=DATE:20260901
DTEND;VALUE=DATE:20261001
DTSTAMP:20260422T192523
CREATED:20240809T144600Z
LAST-MODIFIED:20260211T161913Z
UID:16623-1788220800-1790812799@periwinklefoundation.org
SUMMARY:Childhood Cancer and Sickle Cell Awareness Month
DESCRIPTION:
URL:https://periwinklefoundation.org/event/childhood-cancer-and-sickle-cell-awareness-month/
END:VEVENT
BEGIN:VEVENT
DTSTART;TZID=America/Chicago:20260918T160000
DTEND;TZID=America/Chicago:20260920T100000
DTSTAMP:20260422T192523
CREATED:20260211T161449Z
LAST-MODIFIED:20260218T211524Z
UID:137277-1789747200-1789898400@periwinklefoundation.org
SUMMARY:Fall Family Camp
DESCRIPTION:Periwinkle Family Camp is a weekend (Friday afternoon – Sunday morning) overnight camp held twice a year for pediatric cancer patients treated at Texas Children’s Hospital and their families. The patient must be between the ages of 5 and 16 years. Siblings can be as young as 2 years old to attend Periwinkle Family Camp. Camp is free of charge to all campers.
URL:https://periwinklefoundation.org/event/fall-family-camp-2/
LOCATION:Camp For All
END:VEVENT
BEGIN:VEVENT
DTSTART;TZID=America/Chicago:20260918T170000
DTEND;TZID=America/Chicago:20260920T100000
DTSTAMP:20260422T192523
CREATED:20240809T153458Z
LAST-MODIFIED:20260218T211508Z
UID:16625-1789750800-1789898400@periwinklefoundation.org
SUMMARY:Fall Camp YOLO
DESCRIPTION:Camp YOLO is a weekend (Friday night – Sunday morning) overnight camp held twice a year for teens receiving care from the Cancer and Hematology Center\, Cardiology Center (Heart Center)\, Rheumatology Clinic\, Renal Center (Kidney Center) and Retrovirology Clinic at Texas Children’s Hospital.
URL:https://periwinklefoundation.org/event/fall-camp-yolo-and-family-camp/
LOCATION:Camp For All
END:VEVENT
END:VCALENDAR